BEGIN:VCALENDAR
PRODID:-//Calendar export
VERSION:2.0
X-WR-TIMEZONE:Etc/GMT
BEGIN:VTIMEZONE
TZID:GMT Standard Time
BEGIN:STANDARD
TZOFFSETFROM:+0000
TZOFFSETTO:+0000
END:STANDARD
END:VTIMEZONE
BEGIN:VEVENT
UID:AE976
DTSTAMP:20260423T021600Z
SUMMARY:NORTHERN CALIFORNIA/REDDING: Chapter 13 Meeting in Redding
CLASS:PUBLIC
DESCRIPTION:
STATUS:CONFIRMED
PRIORITY:1
DTSTART:20260506T190000Z
DTEND:20260506T203000Z
TRANSP:OPAQUE
END:VEVENT
END:VCALENDAR
