BEGIN:VCALENDAR
PRODID:-//Calendar export
VERSION:2.0
X-WR-TIMEZONE:Etc/GMT
BEGIN:VTIMEZONE
TZID:GMT Standard Time
BEGIN:STANDARD
TZOFFSETFROM:+0000
TZOFFSETTO:+0000
END:STANDARD
END:VTIMEZONE
BEGIN:VEVENT
UID:AE968
DTSTAMP:20260419T102300Z
SUMMARY:NORTH COAST AREA: Chapter 8 Meeting in Crescent City
CLASS:PUBLIC
DESCRIPTION:
STATUS:CONFIRMED
PRIORITY:1
DTSTART:20260507T183000Z
DTEND:20260507T210000Z
TRANSP:OPAQUE
END:VEVENT
END:VCALENDAR
